BEGIN:VCALENDAR
VERSION:2.0
PRODID:-//ChamberMaster//Event Calendar 2.0//EN
METHOD:PUBLISH
X-PUBLISHED-TTL:P3D
REFRESH-INTERVAL:P3D
CALSCALE:GREGORIAN
BEGIN:VEVENT
DTSTART:20260514T160000Z
DTEND:20260514T180000Z
X-MICROSOFT-CDO-ALLDAYEVENT:FALSE
SUMMARY:Chamber Speaker Series: Legislative Review Presented by BP
DESCRIPTION:Join us for the annual State of the State Legislative Update\, where Senator Sharon Shewmake\, Representative Alicia Rule\, and Representative Joe Timmons from the 42nd Legislative district will discuss their projects\, successes\, and goals. \n\n\n\nThe 2026 Chamber Speaker Series is presented by BP Cherry Point.\n\n\n\nPre-registration is required. Registration closes on Friday\, May 8 at 5:00 PM.
X-ALT-DESC;FMTTYPE=text/html:<span style="font-size:14px\;">Join us for the annual State of the State Legislative Update\, where Senator Sharon Shewmake\, Representative Alicia Rule\, and Representative Joe Timmons from the 42nd Legislative district will discuss their projects\, successes\, and goals.&nbsp\;<br style="font-family: arial\; font-size: 12px\;" />\n<br style="font-family: arial\; font-size: 12px\;" />\nThe 2026 Chamber Speaker Series is presented by <a href="https://www.bp.com/">BP Cherry Point.</a></span><br />\n<br />\n<span style="font-size:14px\;"><span style="color:#FF0000\;"><strong>Pre-registration is required. Registration closes on Friday\, May 8 at 5:00 PM.</strong></span></span>
LOCATION:Four Points by Sheraton 714 Lakeway Dr.\, Bellingham
UID:e.2786.934
SEQUENCE:3
DTSTAMP:20260421T022815Z
URL:https://business.bellingham.com/events/details/chamber-speaker-series-legislative-review-presented-by-bp-934
END:VEVENT

END:VCALENDAR
